BEGIN:VCALENDAR
VERSION:2.0
PRODID:-//pretix//pretix.eu//
BEGIN:VTIMEZONE
TZID:Europe/Berlin
BEGIN:STANDARD
DTSTART:20001029T040000
RRULE:FREQ=YEARLY;BYDAY=-1SU;BYMONTH=10
TZNAME:CET
TZOFFSETFROM:+0200
TZOFFSETTO:+0100
END:STANDARD
BEGIN:DAYLIGHT
DTSTART:20000326T030000
RRULE:FREQ=YEARLY;BYDAY=-1SU;BYMONTH=3
TZNAME:CEST
TZOFFSETFROM:+0100
TZOFFSETTO:+0200
END:DAYLIGHT
END:VTIMEZONE
BEGIN:VEVENT
UID:pretix-hsv-traditionstour-4870377@traditionstour.hsv.de
DTSTART;TZID=Europe/Berlin:20260501T160000
DTEND;TZID=Europe/Berlin:20260501T170000
DESCRIPTION:Tickets: https://traditionstour.hsv.de/4870377/\nVeranstalter: 
 HSV Fußball AG & Co. KGaA
DTSTAMP:20260419T213558Z
SUMMARY:HSV-Traditionstour
END:VEVENT
END:VCALENDAR
